BEGIN:VCALENDAR
VERSION:2.0
PRODID:-//Observatory SudoeNanodesk - ECPv4.6.15//NONSGML v1.0//EN
CALSCALE:GREGORIAN
METHOD:PUBLISH
X-WR-CALNAME:Observatory SudoeNanodesk
X-ORIGINAL-URL:http://observatory.sudoenanodesk.europeanprojects.net
X-WR-CALDESC:Events for Observatory SudoeNanodesk
BEGIN:VEVENT
DTSTART;TZID=UTC+2:20171120T080000
DTEND;TZID=UTC+2:20171122T170000
DTSTAMP:20260421T091418
CREATED:20170915T073115Z
LAST-MODIFIED:20170915T081643Z
UID:398-1511164800-1511370000@observatory.sudoenanodesk.europeanprojects.net
SUMMARY:International Conference and Exhibition on Nanotechnology & Materials Science
DESCRIPTION:A three day International event organized by Excelytics Publishers. The goal of the conference is to provide a platform for Nanotechnologists and Materials Scientists to enhance their research capabilities by networking with other peers and showcasing their work. \n
URL:http://observatory.sudoenanodesk.europeanprojects.net/event/international-conference-and-exhibition-on-nanotechnology-materials-science
LOCATION:Dubai\, United Arab Emirates
CATEGORIES:General
END:VEVENT
BEGIN:VEVENT
DTSTART;VALUE=DATE:20171122
DTEND;VALUE=DATE:20171125
DTSTAMP:20260421T091418
CREATED:20170915T073312Z
LAST-MODIFIED:20170915T081620Z
UID:401-1511308800-1511567999@observatory.sudoenanodesk.europeanprojects.net
SUMMARY:NanoBio&Med2017
DESCRIPTION:Most recent and international developments in the field of nanobiotechnology and medicine. \n
URL:http://observatory.sudoenanodesk.europeanprojects.net/event/nanobiomed2017
LOCATION:Barcelona\, Spain
CATEGORIES:Medicine
END:VEVENT
END:VCALENDAR