BEGIN:VCALENDAR
VERSION:2.0
PRODID:-//Observatory SudoeNanodesk - ECPv4.6.15//NONSGML v1.0//EN
CALSCALE:GREGORIAN
METHOD:PUBLISH
X-WR-CALNAME:Observatory SudoeNanodesk
X-ORIGINAL-URL:http://observatory.sudoenanodesk.europeanprojects.net
X-WR-CALDESC:Events for Observatory SudoeNanodesk
BEGIN:VEVENT
DTSTART;VALUE=DATE:20170919
DTEND;VALUE=DATE:20170923
DTSTAMP:20260419T233551
CREATED:20170914T144731Z
LAST-MODIFIED:20170915T082115Z
UID:331-1505779200-1506124799@observatory.sudoenanodesk.europeanprojects.net
SUMMARY:RPGR 2017
DESCRIPTION:Recent Progress in Graphene and Two-dimensional Materials Research Conference \n
URL:http://observatory.sudoenanodesk.europeanprojects.net/event/rpgr-2017
LOCATION:Singapore
END:VEVENT
BEGIN:VEVENT
DTSTART;VALUE=DATE:20170921
DTEND;VALUE=DATE:20170923
DTSTAMP:20260419T233551
CREATED:20170915T072732Z
LAST-MODIFIED:20170915T082100Z
UID:395-1505952000-1506124799@observatory.sudoenanodesk.europeanprojects.net
SUMMARY:ICSMSDS 2017
DESCRIPTION:19th International Conference on Smart Materials\, Structures\, Devices and Systems \n
URL:http://observatory.sudoenanodesk.europeanprojects.net/event/icsmsds-2017
LOCATION:London\, United Kingdom
CATEGORIES:General
END:VEVENT
END:VCALENDAR